BEGIN:VCALENDAR
VERSION:2.0
PRODID:-//Boden Business Park - ECPv6.15.20//NONSGML v1.0//EN
CALSCALE:GREGORIAN
METHOD:PUBLISH
X-ORIGINAL-URL:https://bodenbusinesspark.com/en/
X-WR-CALDESC:Events for Boden Business Park
REFRESH-INTERVAL;VALUE=DURATION:PT1H
X-Robots-Tag:noindex
X-PUBLISHED-TTL:PT1H
BEGIN:VTIMEZONE
TZID:Europe/Stockholm
BEGIN:DAYLIGHT
TZOFFSETFROM:+0100
TZOFFSETTO:+0200
TZNAME:CEST
DTSTART:20250330T010000
END:DAYLIGHT
BEGIN:STANDARD
TZOFFSETFROM:+0200
TZOFFSETTO:+0100
TZNAME:CET
DTSTART:20251026T010000
END:STANDARD
BEGIN:DAYLIGHT
TZOFFSETFROM:+0100
TZOFFSETTO:+0200
TZNAME:CEST
DTSTART:20260329T010000
END:DAYLIGHT
BEGIN:STANDARD
TZOFFSETFROM:+0200
TZOFFSETTO:+0100
TZNAME:CET
DTSTART:20261025T010000
END:STANDARD
BEGIN:DAYLIGHT
TZOFFSETFROM:+0100
TZOFFSETTO:+0200
TZNAME:CEST
DTSTART:20270328T010000
END:DAYLIGHT
BEGIN:STANDARD
TZOFFSETFROM:+0200
TZOFFSETTO:+0100
TZNAME:CET
DTSTART:20271031T010000
END:STANDARD
END:VTIMEZONE
BEGIN:VEVENT
DTSTART;TZID=Europe/Stockholm:20260508T070000
DTEND;TZID=Europe/Stockholm:20260508T084500
DTSTAMP:20260425T152500
CREATED:20250515T112613Z
LAST-MODIFIED:20260422T140124Z
UID:10000732-1778223600-1778229900@bodenbusinesspark.com
SUMMARY:Företagsfrukost i Boden
DESCRIPTION:Välkommen till företagsfrukost på Boden Business Park! Starta morgonen med att ta del av aktuella nyheter från näringslivet och Bodens kommun\, nätverka med andra företag och ät en god frukost. \n\n\n\nDörrarna öppnar kl. 07.00 till Verkstan och Ljusgården och programmet på scen pågår mellan kl. 07.45-08.45. Frukosten serveras i restaurangen Säsong från kl. 07.00. \n\n\n\nIngen föranmälan krävs för den som vill medverka på plats. Programmet på scen sänds även via YouTube. \n\n\n\n\nPrenumerera på kanalen här!\n\n\n\n\nVill du sitta kvar och jobba hos oss efter frukosten? Inga problem!På bottenplan i Verkstan kan du sitta i en öppen loungemiljö. Önskar du hellre låna ett skrivbord finns det möjlighet att prova att sitta i vårt coworking space på plan tre. Kontakta i så fall Linnea Söderström\, linnea@bodenbusinesspark.se. \n\n\n\n••• \n\n\n\nFöretagsfrukost i Boden arrangeras i samarbete mellan Företagarna Boden\, Bodens kommun och Boden Business Park.Önskar du ytterligare information om evenemanget når du oss på info@bodenbusinesspark.se. \n\n\n\nVarmt välkommen!
URL:https://bodenbusinesspark.com/en/event/foretagsfrukost-i-boden-13/
LOCATION:Verkstan\, Boden Business Park\, Technology Road 15\, Ground\, 96150
ATTACH;FMTTYPE=image/webp:https://bodenbusinesspark.com/wp-content/uploads/2025/05/Event-web_maj-scaled.webp
END:VEVENT
BEGIN:VEVENT
DTSTART;TZID=Europe/Stockholm:20260611T070000
DTEND;TZID=Europe/Stockholm:20260611T084500
DTSTAMP:20260425T152500
CREATED:20250515T112800Z
LAST-MODIFIED:20260401T131701Z
UID:10000733-1781161200-1781167500@bodenbusinesspark.com
SUMMARY:Företagsfrukost i Boden
DESCRIPTION:Välkommen till företagsfrukost på Boden Business Park! Starta morgonen med att ta del av aktuella nyheter från näringslivet och Bodens kommun\, nätverka med andra företag och ät en god frukost. \n\n\n\nDörrarna öppnar kl. 07.00 till Verkstan och Ljusgården och programmet på scen pågår mellan kl. 07.45-08.45. Frukosten serveras i restaurangen Säsong från kl. 07.00. \n\n\n\nIngen föranmälan krävs för den som vill medverka på plats. Programmet på scen sänds även via YouTube. \n\n\n\n\nPrenumerera på kanalen här!\n\n\n\n\n \n\n\n\nVill du sitta kvar och jobba hos oss efter frukosten? Inga problem!På bottenplan i Verkstan kan du sitta i en öppen loungemiljö. Önskar du hellre låna ett skrivbord finns det möjlighet att prova att sitta i vårt coworking space på plan tre. Kontakta i så fall Linnea Söderström\, linnea@bodenbusinesspark.se. \n\n\n\n••• \n\n\n\nFöretagsfrukost i Boden arrangeras i samarbete mellan Företagarna Boden\, Bodens kommun och Boden Business Park.Önskar du ytterligare information om evenemanget når du oss på info@bodenbusinesspark.se. \n\n\n\nVarmt välkommen!
URL:https://bodenbusinesspark.com/en/event/foretagsfrukost-i-boden-15/
LOCATION:Verkstan\, Boden Business Park\, Technology Road 15\, Ground\, 96150
ATTACH;FMTTYPE=image/webp:https://bodenbusinesspark.com/wp-content/uploads/2025/05/Event-utan-frukostvard.webp
END:VEVENT
END:VCALENDAR